BEGIN:VCALENDAR
VERSION:2.0
CALSCALE:GREGORIAN
PRODID:-//Diputació de Barcelona//DibaCMS//EN
BEGIN:VEVENT
UID:24193
DTSTAMP:20260422T074458
DTSTART:20120518T180000
DTEND:20120518T000000
SUMMARY:Taller infantil: Imants de nevera
LOCATION:
METHOD:PUBLISH
X-WR-CALNAME:e-seu@ajpiera.cat
X-WR-TIMEZONE:Europe/Madrid
DESCRIPTION:Taller infantil: Imants de nevera
URI:https://www.viladepiera.cat/actualitat/agenda/taller-infantil-imants-de-nevera.html
CLASS:PUBLIC
END:VEVENT
END:VCALENDAR
