BEGIN:VCALENDAR
VERSION:2.0
CALSCALE:GREGORIAN
PRODID:-//Diputació de Barcelona//DibaCMS//EN
BEGIN:VEVENT
UID:24195
DTSTAMP:20260422T063209
DTSTART:20120518T170000
DTEND:20120518T200000
SUMMARY:Taller de cuina al microones
LOCATION:
METHOD:PUBLISH
X-WR-CALNAME:e-seu@ajpiera.cat
X-WR-TIMEZONE:Europe/Madrid
DESCRIPTION:Taller de cuina al microones
URI:https://www.viladepiera.cat/actualitat/agenda/taller-de-cuina-al-microones.html
CLASS:PUBLIC
END:VEVENT
END:VCALENDAR
