BEGIN:VCALENDAR
VERSION:2.0
CALSCALE:GREGORIAN
PRODID:-//Diputació de Barcelona//DibaCMS//EN
BEGIN:VEVENT
UID:24200
DTSTAMP:20260422T063852
DTSTART:20120519T180000
DTEND:20120519T000000
SUMMARY:Presentació del llibre: Educar en família
LOCATION:
METHOD:PUBLISH
X-WR-CALNAME:e-seu@ajpiera.cat
X-WR-TIMEZONE:Europe/Madrid
DESCRIPTION:Presentació del llibre: Educar en família
URI:https://www.viladepiera.cat/actualitat/agenda/presentacio-del-llibre-educar-en-familia.html
CLASS:PUBLIC
END:VEVENT
END:VCALENDAR
