BEGIN:VCALENDAR
VERSION:2.0
CALSCALE:GREGORIAN
PRODID:-//Diputació de Barcelona//DibaCMS//EN
BEGIN:VEVENT
UID:24202
DTSTAMP:20260422T051623
DTSTART:20120520T000000
DTEND:20120520T000000
SUMMARY:50è aniversari de la construcció de l'església Sta. Maria de la Fortesa
LOCATION:
METHOD:PUBLISH
X-WR-CALNAME:e-seu@ajpiera.cat
X-WR-TIMEZONE:Europe/Madrid
DESCRIPTION:50è aniversari de la construcció de l'església Sta. Maria de la Fortesa

URI:https://www.viladepiera.cat/actualitat/agenda/50e-aniversari-de-la-construccio-de-lesglesia-sta-maria-de-la-fortesa.html
CLASS:PUBLIC
END:VEVENT
END:VCALENDAR
