BEGIN:VCALENDAR
VERSION:2.0
CALSCALE:GREGORIAN
PRODID:-//Diputació de Barcelona//DibaCMS//EN
BEGIN:VEVENT
UID:24204
DTSTAMP:20260422T051633
DTSTART:20120520T100000
DTEND:20120520T100000
SUMMARY:De Vallbona a Piera per camins, senders i corriols
LOCATION:
METHOD:PUBLISH
X-WR-CALNAME:e-seu@ajpiera.cat
X-WR-TIMEZONE:Europe/Madrid
DESCRIPTION:De Vallbona a Piera per camins, senders i corriols

URI:https://www.viladepiera.cat/actualitat/agenda/de-vallbona-a-piera-per-camins-senders-i-corriols.html
CLASS:PUBLIC
END:VEVENT
END:VCALENDAR
