BEGIN:VCALENDAR
VERSION:2.0
CALSCALE:GREGORIAN
PRODID:-//Diputació de Barcelona//DibaCMS//EN
BEGIN:VEVENT
UID:24207
DTSTAMP:20260422T075000
DTSTART:20120520T110000
DTEND:20120520T140000
SUMMARY:Fira d'intercanvi
LOCATION:
METHOD:PUBLISH
X-WR-CALNAME:e-seu@ajpiera.cat
X-WR-TIMEZONE:Europe/Madrid
DESCRIPTION:Fira d'intercanvi
URI:https://www.viladepiera.cat/actualitat/agenda/24207-fira-dintercanvi.html
CLASS:PUBLIC
END:VEVENT
END:VCALENDAR
