BEGIN:VCALENDAR
VERSION:2.0
CALSCALE:GREGORIAN
PRODID:-//Diputació de Barcelona//DibaCMS//EN
BEGIN:VEVENT
UID:24214
DTSTAMP:20260422T075025
DTSTART:20120524T190000
DTEND:20120524T000000
SUMMARY:II Xerrada-Col·loqui Aula Luís Gómez
LOCATION:
METHOD:PUBLISH
X-WR-CALNAME:e-seu@ajpiera.cat
X-WR-TIMEZONE:Europe/Madrid
DESCRIPTION:II Xerrada-Col·loqui Aula Luís Gómez
URI:https://www.viladepiera.cat/actualitat/agenda/ii-xerrada-colloqui-aula-luis-gomez.html
CLASS:PUBLIC
END:VEVENT
END:VCALENDAR
