BEGIN:VCALENDAR
VERSION:2.0
CALSCALE:GREGORIAN
PRODID:-//Diputació de Barcelona//DibaCMS//EN
BEGIN:VEVENT
UID:24216
DTSTAMP:20260422T022005
DTSTART:20120525T184500
DTEND:20120525T000000
SUMMARY:Club de finances per a no financers
LOCATION:
METHOD:PUBLISH
X-WR-CALNAME:e-seu@ajpiera.cat
X-WR-TIMEZONE:Europe/Madrid
DESCRIPTION:Club de finances per a no financers
URI:https://www.viladepiera.cat/actualitat/agenda/24216-club-de-finances-per-a-no-financers.html
CLASS:PUBLIC
END:VEVENT
END:VCALENDAR
