BEGIN:VCALENDAR
VERSION:2.0
CALSCALE:GREGORIAN
PRODID:-//Diputació de Barcelona//DibaCMS//EN
BEGIN:VEVENT
UID:24221
DTSTAMP:20260422T011812
DTSTART:20120526T080000
DTEND:20120526T080000
SUMMARY:Sortida cultural: El front del Segre
LOCATION:
METHOD:PUBLISH
X-WR-CALNAME:e-seu@ajpiera.cat
X-WR-TIMEZONE:Europe/Madrid
DESCRIPTION:Sortida cultural: El front del Segre

URI:https://www.viladepiera.cat/actualitat/agenda/sortida-cultural-el-front-del-segre.html
CLASS:PUBLIC
END:VEVENT
END:VCALENDAR
