BEGIN:VCALENDAR
VERSION:2.0
CALSCALE:GREGORIAN
PRODID:-//Diputació de Barcelona//DibaCMS//EN
BEGIN:VEVENT
UID:24223
DTSTAMP:20260422T040426
DTSTART:20120527T090000
DTEND:20120527T000000
SUMMARY:Aplec de la Pineda de Can Ferrer del Coll
LOCATION:
METHOD:PUBLISH
X-WR-CALNAME:e-seu@ajpiera.cat
X-WR-TIMEZONE:Europe/Madrid
DESCRIPTION:Aplec de la Pineda de Can Ferrer del Coll
URI:https://www.viladepiera.cat/actualitat/agenda/aplec-de-la-pineda-de-can-ferrer-del-coll.html
CLASS:PUBLIC
END:VEVENT
END:VCALENDAR
