BEGIN:VCALENDAR
VERSION:2.0
CALSCALE:GREGORIAN
PRODID:-//Diputació de Barcelona//DibaCMS//EN
BEGIN:VEVENT
UID:24226
DTSTAMP:20260422T085709
DTSTART:20120527T090000
DTEND:20120527T090000
SUMMARY:La cursa dels cobardes
LOCATION:
METHOD:PUBLISH
X-WR-CALNAME:e-seu@ajpiera.cat
X-WR-TIMEZONE:Europe/Madrid
DESCRIPTION:La cursa dels cobardes

URI:https://www.viladepiera.cat/actualitat/agenda/la-cursa-dels-cobardes.html
CLASS:PUBLIC
END:VEVENT
END:VCALENDAR
