BEGIN:VCALENDAR
VERSION:2.0
CALSCALE:GREGORIAN
PRODID:-//Diputació de Barcelona//DibaCMS//EN
BEGIN:VEVENT
UID:24228
DTSTAMP:20260422T035955
DTSTART:20120529T180000
DTEND:20120529T180000
SUMMARY:Contes a cau d'orella: Les joguines que hi són...
LOCATION:
METHOD:PUBLISH
X-WR-CALNAME:e-seu@ajpiera.cat
X-WR-TIMEZONE:Europe/Madrid
DESCRIPTION:Contes a cau d'orella: Les joguines que hi són...

URI:https://www.viladepiera.cat/actualitat/agenda/contes-a-cau-dorella-les-joguines-que-hi-son.html
CLASS:PUBLIC
END:VEVENT
END:VCALENDAR
