BEGIN:VCALENDAR
VERSION:2.0
CALSCALE:GREGORIAN
PRODID:-//Diputació de Barcelona//DibaCMS//EN
BEGIN:VEVENT
UID:24234
DTSTAMP:20260421T175144
DTSTART:20140228T190000
DTEND:20140228T000000
SUMMARY:Lloguers i llogaters. Finances a l'abast de tothom
LOCATION:
METHOD:PUBLISH
X-WR-CALNAME:e-seu@ajpiera.cat
X-WR-TIMEZONE:Europe/Madrid
DESCRIPTION:Lloguers i llogaters. Finances a l'abast de tothom
URI:https://www.viladepiera.cat/actualitat/agenda/lloguers-i-llogaters-finances-a-labast-de-tothom.html
CLASS:PUBLIC
END:VEVENT
END:VCALENDAR
