BEGIN:VCALENDAR
VERSION:2.0
CALSCALE:GREGORIAN
PRODID:-//Diputació de Barcelona//DibaCMS//EN
BEGIN:VEVENT
UID:24235
DTSTAMP:20260422T061512
DTSTART:20120601T000000
DTEND:20120601T000000
SUMMARY:L'evolució segons Darwin
LOCATION:
METHOD:PUBLISH
X-WR-CALNAME:e-seu@ajpiera.cat
X-WR-TIMEZONE:Europe/Madrid
DESCRIPTION:L'evolució segons Darwin

URI:https://www.viladepiera.cat/actualitat/agenda/levolucio-segons-darwin.html
CLASS:PUBLIC
END:VEVENT
END:VCALENDAR
