BEGIN:VCALENDAR
VERSION:2.0
CALSCALE:GREGORIAN
PRODID:-//Diputació de Barcelona//DibaCMS//EN
BEGIN:VEVENT
UID:24236
DTSTAMP:20260421T215300
DTSTART:20140228T173000
DTEND:20140228T000000
SUMMARY:Rusquitaller: Carnestoltes moltes voltes
LOCATION:
METHOD:PUBLISH
X-WR-CALNAME:e-seu@ajpiera.cat
X-WR-TIMEZONE:Europe/Madrid
DESCRIPTION:Rusquitaller: Carnestoltes moltes voltes
URI:https://www.viladepiera.cat/actualitat/agenda/rusquitaller-carnestoltes-moltes-voltes.html
CLASS:PUBLIC
END:VEVENT
END:VCALENDAR
