BEGIN:VCALENDAR
VERSION:2.0
CALSCALE:GREGORIAN
PRODID:-//Diputació de Barcelona//DibaCMS//EN
BEGIN:VEVENT
UID:24237
DTSTAMP:20260421T185807
DTSTART:20140228T164500
DTEND:20140228T000000
SUMMARY:Carnaval 2014: Rua de les llars d'infants
LOCATION:
METHOD:PUBLISH
X-WR-CALNAME:e-seu@ajpiera.cat
X-WR-TIMEZONE:Europe/Madrid
DESCRIPTION:Carnaval 2014: Rua de les llars d'infants
URI:https://www.viladepiera.cat/actualitat/agenda/carnaval-2014-rua-de-les-llars-dinfants.html
CLASS:PUBLIC
END:VEVENT
END:VCALENDAR
