BEGIN:VCALENDAR
VERSION:2.0
CALSCALE:GREGORIAN
PRODID:-//Diputació de Barcelona//DibaCMS//EN
BEGIN:VEVENT
UID:24239
DTSTAMP:20260421T202640
DTSTART:20140301T000000
DTEND:20140301T000000
SUMMARY:Inici d'exposició: El consum i els consumidors
LOCATION:
METHOD:PUBLISH
X-WR-CALNAME:e-seu@ajpiera.cat
X-WR-TIMEZONE:Europe/Madrid
DESCRIPTION:Inici d'exposició: El consum i els consumidors
URI:https://www.viladepiera.cat/actualitat/agenda/inici-dexposicio-el-consum-i-els-consumidors.html
CLASS:PUBLIC
END:VEVENT
END:VCALENDAR
