BEGIN:VCALENDAR
VERSION:2.0
CALSCALE:GREGORIAN
PRODID:-//Diputació de Barcelona//DibaCMS//EN
BEGIN:VEVENT
UID:24240
DTSTAMP:20260422T085400
DTSTART:20120601T193000
DTEND:20120601T000000
SUMMARY:Dibuixos, dibuixos
LOCATION:
METHOD:PUBLISH
X-WR-CALNAME:e-seu@ajpiera.cat
X-WR-TIMEZONE:Europe/Madrid
DESCRIPTION:Dibuixos, dibuixos
URI:https://www.viladepiera.cat/actualitat/agenda/dibuixos-dibuixos.html
CLASS:PUBLIC
END:VEVENT
END:VCALENDAR
