BEGIN:VCALENDAR
VERSION:2.0
CALSCALE:GREGORIAN
PRODID:-//Diputació de Barcelona//DibaCMS//EN
BEGIN:VEVENT
UID:24241
DTSTAMP:20260421T235212
DTSTART:20140301T000000
DTEND:20140301T000000
SUMMARY:Inici d'exposició: Mirar al cel
LOCATION:
METHOD:PUBLISH
X-WR-CALNAME:e-seu@ajpiera.cat
X-WR-TIMEZONE:Europe/Madrid
DESCRIPTION:Inici d'exposició: Mirar al cel
URI:https://www.viladepiera.cat/actualitat/agenda/inici-dexposicio-mirar-al-cel.html
CLASS:PUBLIC
END:VEVENT
END:VCALENDAR
