BEGIN:VCALENDAR
VERSION:2.0
CALSCALE:GREGORIAN
PRODID:-//Diputació de Barcelona//DibaCMS//EN
BEGIN:VEVENT
UID:24242
DTSTAMP:20260422T024101
DTSTART:20120602T000000
DTEND:20120603T000000
SUMMARY:11a Festa de l'Esport
LOCATION:
METHOD:PUBLISH
X-WR-CALNAME:e-seu@ajpiera.cat
X-WR-TIMEZONE:Europe/Madrid
DESCRIPTION:11a Festa de l'Esport

URI:https://www.viladepiera.cat/actualitat/agenda/24242-11a-festa-de-lesport.html
CLASS:PUBLIC
END:VEVENT
END:VCALENDAR
