BEGIN:VCALENDAR
VERSION:2.0
CALSCALE:GREGORIAN
PRODID:-//Diputació de Barcelona//DibaCMS//EN
BEGIN:VEVENT
UID:24246
DTSTAMP:20260421T213338
DTSTART:20140301T000000
DTEND:20140301T000000
SUMMARY:Carnaval a Can Canals
LOCATION:
METHOD:PUBLISH
X-WR-CALNAME:e-seu@ajpiera.cat
X-WR-TIMEZONE:Europe/Madrid
DESCRIPTION:Carnaval a Can Canals

URI:https://www.viladepiera.cat/actualitat/agenda/carnaval-a-can-canals.html
CLASS:PUBLIC
END:VEVENT
END:VCALENDAR
