BEGIN:VCALENDAR
VERSION:2.0
CALSCALE:GREGORIAN
PRODID:-//Diputació de Barcelona//DibaCMS//EN
BEGIN:VEVENT
UID:24247
DTSTAMP:20260422T040402
DTSTART:20120602T000000
DTEND:20120603T000000
SUMMARY:Festa de l'Esport: Inflables i jocs d'aigua
LOCATION:
METHOD:PUBLISH
X-WR-CALNAME:e-seu@ajpiera.cat
X-WR-TIMEZONE:Europe/Madrid
DESCRIPTION:Festa de l'Esport: Inflables i jocs d'aigua
URI:https://www.viladepiera.cat/actualitat/agenda/festa-de-lesport-inflables-i-jocs-daigua.html
CLASS:PUBLIC
END:VEVENT
END:VCALENDAR
