BEGIN:VCALENDAR
VERSION:2.0
CALSCALE:GREGORIAN
PRODID:-//Diputació de Barcelona//DibaCMS//EN
BEGIN:VEVENT
UID:24252
DTSTAMP:20260422T010143
DTSTART:20120602T100000
DTEND:20120602T140000
SUMMARY:Taller: El desaferrament i la por de deixar anar
LOCATION:
METHOD:PUBLISH
X-WR-CALNAME:e-seu@ajpiera.cat
X-WR-TIMEZONE:Europe/Madrid
DESCRIPTION:Taller: El desaferrament i la por de deixar anar
URI:https://www.viladepiera.cat/actualitat/agenda/taller-el-desaferrament-i-la-por-de-deixar-anar.html
CLASS:PUBLIC
END:VEVENT
END:VCALENDAR
