BEGIN:VCALENDAR
VERSION:2.0
CALSCALE:GREGORIAN
PRODID:-//Diputació de Barcelona//DibaCMS//EN
BEGIN:VEVENT
UID:24260
DTSTAMP:20260422T040305
DTSTART:20120602T163000
DTEND:20120602T163000
SUMMARY:Excursió al bosquet de les Flandes
LOCATION:
METHOD:PUBLISH
X-WR-CALNAME:e-seu@ajpiera.cat
X-WR-TIMEZONE:Europe/Madrid
DESCRIPTION:Excursió al bosquet de les Flandes

URI:https://www.viladepiera.cat/actualitat/agenda/excursio-al-bosquet-de-les-flandes.html
CLASS:PUBLIC
END:VEVENT
END:VCALENDAR
