BEGIN:VCALENDAR
VERSION:2.0
CALSCALE:GREGORIAN
PRODID:-//Diputació de Barcelona//DibaCMS//EN
BEGIN:VEVENT
UID:24269
DTSTAMP:20260422T025806
DTSTART:20120602T120000
DTEND:20120602T000000
SUMMARY:Exposició col·lectiva: Homenatge al retrat
LOCATION:
METHOD:PUBLISH
X-WR-CALNAME:e-seu@ajpiera.cat
X-WR-TIMEZONE:Europe/Madrid
DESCRIPTION:Exposició col·lectiva: Homenatge al retrat
URI:https://www.viladepiera.cat/actualitat/agenda/exposicio-collectiva-homenatge-al-retrat.html
CLASS:PUBLIC
END:VEVENT
END:VCALENDAR
