BEGIN:VCALENDAR
VERSION:2.0
CALSCALE:GREGORIAN
PRODID:-//Diputació de Barcelona//DibaCMS//EN
BEGIN:VEVENT
UID:24277
DTSTAMP:20260422T040606
DTSTART:20120606T180000
DTEND:20120606T000000
SUMMARY:Taller: Ioga per a infants
LOCATION:
METHOD:PUBLISH
X-WR-CALNAME:e-seu@ajpiera.cat
X-WR-TIMEZONE:Europe/Madrid
DESCRIPTION:Taller: Ioga per a infants
URI:https://www.viladepiera.cat/actualitat/agenda/taller-ioga-per-a-infants.html
CLASS:PUBLIC
END:VEVENT
END:VCALENDAR
