BEGIN:VCALENDAR
VERSION:2.0
CALSCALE:GREGORIAN
PRODID:-//Diputació de Barcelona//DibaCMS//EN
BEGIN:VEVENT
UID:24295
DTSTAMP:20260422T023417
DTSTART:20120607T190000
DTEND:20120607T190000
SUMMARY:Conferència: El testament vital
LOCATION:
METHOD:PUBLISH
X-WR-CALNAME:e-seu@ajpiera.cat
X-WR-TIMEZONE:Europe/Madrid
DESCRIPTION:Conferència: El testament vital

URI:https://www.viladepiera.cat/actualitat/agenda/conferencia-el-testament-vital.html
CLASS:PUBLIC
END:VEVENT
END:VCALENDAR
