BEGIN:VCALENDAR
VERSION:2.0
CALSCALE:GREGORIAN
PRODID:-//Diputació de Barcelona//DibaCMS//EN
BEGIN:VEVENT
UID:24310
DTSTAMP:20260422T023756
DTSTART:20120608T233000
DTEND:20120608T233000
SUMMARY:Acústics a l'Espai d'Entitats
LOCATION:
METHOD:PUBLISH
X-WR-CALNAME:e-seu@ajpiera.cat
X-WR-TIMEZONE:Europe/Madrid
DESCRIPTION:Acústics a l'Espai d'Entitats

URI:https://www.viladepiera.cat/actualitat/agenda/24310-acustics-a-lespai-dentitats.html
CLASS:PUBLIC
END:VEVENT
END:VCALENDAR
