BEGIN:VCALENDAR
VERSION:2.0
CALSCALE:GREGORIAN
PRODID:-//Diputació de Barcelona//DibaCMS//EN
BEGIN:VEVENT
UID:24326
DTSTAMP:20260422T051049
DTSTART:20120608T180000
DTEND:20120608T000000
SUMMARY:Setmana de l'energia
LOCATION:
METHOD:PUBLISH
X-WR-CALNAME:e-seu@ajpiera.cat
X-WR-TIMEZONE:Europe/Madrid
DESCRIPTION:Setmana de l'energia
URI:https://www.viladepiera.cat/actualitat/agenda/24326-setmana-de-lenergia.html
CLASS:PUBLIC
END:VEVENT
END:VCALENDAR
