BEGIN:VCALENDAR
VERSION:2.0
CALSCALE:GREGORIAN
PRODID:-//Diputació de Barcelona//DibaCMS//EN
BEGIN:VEVENT
UID:24334
DTSTAMP:20260422T024931
DTSTART:20120608T180000
DTEND:20120608T180000
SUMMARY:Pla d'Acció per a l'Energia Sostenible
LOCATION:
METHOD:PUBLISH
X-WR-CALNAME:e-seu@ajpiera.cat
X-WR-TIMEZONE:Europe/Madrid
DESCRIPTION:Pla d'Acció per a l'Energia Sostenible

URI:https://www.viladepiera.cat/actualitat/agenda/24334-pla-daccio-per-a-lenergia-sostenible.html
CLASS:PUBLIC
END:VEVENT
END:VCALENDAR
