BEGIN:VCALENDAR
VERSION:2.0
CALSCALE:GREGORIAN
PRODID:-//Diputació de Barcelona//DibaCMS//EN
BEGIN:VEVENT
UID:24341
DTSTAMP:20260422T011709
DTSTART:20120609T093000
DTEND:20120610T220000
SUMMARY:Torneig de cloenda final de temporada AE Piera
LOCATION:
METHOD:PUBLISH
X-WR-CALNAME:e-seu@ajpiera.cat
X-WR-TIMEZONE:Europe/Madrid
DESCRIPTION:Torneig de cloenda final de temporada AE Piera
URI:https://www.viladepiera.cat/actualitat/agenda/torneig-de-cloenda-final-de-temporada-ae-piera.html
CLASS:PUBLIC
END:VEVENT
END:VCALENDAR
