BEGIN:VCALENDAR
VERSION:2.0
CALSCALE:GREGORIAN
PRODID:-//Diputació de Barcelona//DibaCMS//EN
BEGIN:VEVENT
UID:24351
DTSTAMP:20260422T024009
DTSTART:20120609T210000
DTEND:20120609T210000
SUMMARY:Sopar dels amics de la ràdio
LOCATION:
METHOD:PUBLISH
X-WR-CALNAME:e-seu@ajpiera.cat
X-WR-TIMEZONE:Europe/Madrid
DESCRIPTION:Sopar dels amics de la ràdio

URI:https://www.viladepiera.cat/actualitat/agenda/sopar-dels-amics-de-la-radio.html
CLASS:PUBLIC
END:VEVENT
END:VCALENDAR
