BEGIN:VCALENDAR
VERSION:2.0
CALSCALE:GREGORIAN
PRODID:-//Diputació de Barcelona//DibaCMS//EN
BEGIN:VEVENT
UID:24365
DTSTAMP:20260422T001512
DTSTART:20120609T180000
DTEND:20120609T000000
SUMMARY:Presentació del llibre: Un passeig en l'oblit del temps
LOCATION:
METHOD:PUBLISH
X-WR-CALNAME:e-seu@ajpiera.cat
X-WR-TIMEZONE:Europe/Madrid
DESCRIPTION:Presentació del llibre: Un passeig en l'oblit del temps
URI:https://www.viladepiera.cat/actualitat/agenda/24365-presentacio-del-llibre-un-passeig-en-loblit-del-temps.html
CLASS:PUBLIC
END:VEVENT
END:VCALENDAR
