BEGIN:VCALENDAR
VERSION:2.0
CALSCALE:GREGORIAN
PRODID:-//Diputació de Barcelona//DibaCMS//EN
BEGIN:VEVENT
UID:24373
DTSTAMP:20260422T072855
DTSTART:20120609T000000
DTEND:20120610T000000
SUMMARY:Torneig de futbol base Ceràmica Piera
LOCATION:
METHOD:PUBLISH
X-WR-CALNAME:e-seu@ajpiera.cat
X-WR-TIMEZONE:Europe/Madrid
DESCRIPTION:Torneig de futbol base Ceràmica Piera

URI:https://www.viladepiera.cat/actualitat/agenda/torneig-de-futbol-base-ceramica-piera.html
CLASS:PUBLIC
END:VEVENT
END:VCALENDAR
