BEGIN:VCALENDAR
VERSION:2.0
CALSCALE:GREGORIAN
PRODID:-//Diputació de Barcelona//DibaCMS//EN
BEGIN:VEVENT
UID:24383
DTSTAMP:20260422T011832
DTSTART:20120609T000000
DTEND:20120609T000000
SUMMARY:Teatre: La casa de los olvidos
LOCATION:
METHOD:PUBLISH
X-WR-CALNAME:e-seu@ajpiera.cat
X-WR-TIMEZONE:Europe/Madrid
DESCRIPTION:Teatre: La casa de los olvidos

URI:https://www.viladepiera.cat/actualitat/agenda/teatre-la-casa-de-los-olvidos.html
CLASS:PUBLIC
END:VEVENT
END:VCALENDAR
