BEGIN:VCALENDAR
VERSION:2.0
CALSCALE:GREGORIAN
PRODID:-//Diputació de Barcelona//DibaCMS//EN
BEGIN:VEVENT
UID:24403
DTSTAMP:20260422T040127
DTSTART:20120613T180000
DTEND:20120613T000000
SUMMARY:Espectacle infantil: Qui vola en aquesta escombra?
LOCATION:
METHOD:PUBLISH
X-WR-CALNAME:e-seu@ajpiera.cat
X-WR-TIMEZONE:Europe/Madrid
DESCRIPTION:Espectacle infantil: Qui vola en aquesta escombra?
URI:https://www.viladepiera.cat/actualitat/agenda/espectacle-infantil-qui-vola-en-aquesta-escombra.html
CLASS:PUBLIC
END:VEVENT
END:VCALENDAR
