BEGIN:VCALENDAR
VERSION:2.0
CALSCALE:GREGORIAN
PRODID:-//Diputació de Barcelona//DibaCMS//EN
BEGIN:VEVENT
UID:24410
DTSTAMP:20260422T001749
DTSTART:20120614T090000
DTEND:20120614T140000
SUMMARY:Visita de l'Oficina del Síndic de Greuges a Piera
LOCATION:
METHOD:PUBLISH
X-WR-CALNAME:e-seu@ajpiera.cat
X-WR-TIMEZONE:Europe/Madrid
DESCRIPTION:Visita de l'Oficina del Síndic de Greuges a Piera
URI:https://www.viladepiera.cat/actualitat/agenda/visita-de-loficina-del-sindic-de-greuges-a-piera.html
CLASS:PUBLIC
END:VEVENT
END:VCALENDAR
