BEGIN:VCALENDAR
VERSION:2.0
CALSCALE:GREGORIAN
PRODID:-//Diputació de Barcelona//DibaCMS//EN
BEGIN:VEVENT
UID:24417
DTSTAMP:20260422T045345
DTSTART:20120615T000000
DTEND:20120615T000000
SUMMARY:21 Festa Rociera
LOCATION:
METHOD:PUBLISH
X-WR-CALNAME:e-seu@ajpiera.cat
X-WR-TIMEZONE:Europe/Madrid
DESCRIPTION:21 Festa Rociera

URI:https://www.viladepiera.cat/actualitat/agenda/21-festa-rociera.html
CLASS:PUBLIC
END:VEVENT
END:VCALENDAR
