BEGIN:VCALENDAR
VERSION:2.0
CALSCALE:GREGORIAN
PRODID:-//Diputació de Barcelona//DibaCMS//EN
BEGIN:VEVENT
UID:24428
DTSTAMP:20260422T000505
DTSTART:20120616T160000
DTEND:20120616T190000
SUMMARY:II Campionat de Natació de la Piscina Municipal
LOCATION:
METHOD:PUBLISH
X-WR-CALNAME:e-seu@ajpiera.cat
X-WR-TIMEZONE:Europe/Madrid
DESCRIPTION:II Campionat de Natació de la Piscina Municipal
URI:https://www.viladepiera.cat/actualitat/agenda/ii-campionat-de-natacio-de-la-piscina-municipal.html
CLASS:PUBLIC
END:VEVENT
END:VCALENDAR
