BEGIN:VCALENDAR
VERSION:2.0
CALSCALE:GREGORIAN
PRODID:-//Diputació de Barcelona//DibaCMS//EN
BEGIN:VEVENT
UID:24430
DTSTAMP:20260421T201928
DTSTART:20140404T233000
DTEND:20140404T000000
SUMMARY:Nits temàtiques: Folk
LOCATION:
METHOD:PUBLISH
X-WR-CALNAME:e-seu@ajpiera.cat
X-WR-TIMEZONE:Europe/Madrid
DESCRIPTION:Nits temàtiques: Folk
URI:https://www.viladepiera.cat/actualitat/agenda/nits-tematiques-folk.html
CLASS:PUBLIC
END:VEVENT
END:VCALENDAR
