BEGIN:VCALENDAR
VERSION:2.0
CALSCALE:GREGORIAN
PRODID:-//Diputació de Barcelona//DibaCMS//EN
BEGIN:VEVENT
UID:24442
DTSTAMP:20260422T023608
DTSTART:20120617T110000
DTEND:20120617T130000
SUMMARY:Festival de final de curs d'activitats infantils
LOCATION:
METHOD:PUBLISH
X-WR-CALNAME:e-seu@ajpiera.cat
X-WR-TIMEZONE:Europe/Madrid
DESCRIPTION:Festival de final de curs d'activitats infantils
URI:https://www.viladepiera.cat/actualitat/agenda/festival-de-final-de-curs-dactivitats-infantils.html
CLASS:PUBLIC
END:VEVENT
END:VCALENDAR
