BEGIN:VCALENDAR
VERSION:2.0
CALSCALE:GREGORIAN
PRODID:-//Diputació de Barcelona//DibaCMS//EN
BEGIN:VEVENT
UID:24450
DTSTAMP:20260422T045503
DTSTART:20140405T120000
DTEND:20140405T000000
SUMMARY:Poesía de crisis: Derecho a la tristeza
LOCATION:
METHOD:PUBLISH
X-WR-CALNAME:e-seu@ajpiera.cat
X-WR-TIMEZONE:Europe/Madrid
DESCRIPTION:Poesía de crisis: Derecho a la tristeza
URI:https://www.viladepiera.cat/actualitat/agenda/poesia-de-crisis-derecho-a-la-tristeza.html
CLASS:PUBLIC
END:VEVENT
END:VCALENDAR
