BEGIN:VCALENDAR
VERSION:2.0
CALSCALE:GREGORIAN
PRODID:-//Diputació de Barcelona//DibaCMS//EN
BEGIN:VEVENT
UID:24454
DTSTAMP:20260422T060012
DTSTART:20120618T190000
DTEND:20120618T000000
SUMMARY:Audició de final de curs de l'Aula de Música
LOCATION:
METHOD:PUBLISH
X-WR-CALNAME:e-seu@ajpiera.cat
X-WR-TIMEZONE:Europe/Madrid
DESCRIPTION:Audició de final de curs de l'Aula de Música
URI:https://www.viladepiera.cat/actualitat/agenda/24454-audicio-de-final-de-curs-de-laula-de-musica.html
CLASS:PUBLIC
END:VEVENT
END:VCALENDAR
