BEGIN:VCALENDAR
VERSION:2.0
CALSCALE:GREGORIAN
PRODID:-//Diputació de Barcelona//DibaCMS//EN
BEGIN:VEVENT
UID:24460
DTSTAMP:20260422T060130
DTSTART:20120619T183000
DTEND:20120619T000000
SUMMARY:Club de lectura
LOCATION:
METHOD:PUBLISH
X-WR-CALNAME:e-seu@ajpiera.cat
X-WR-TIMEZONE:Europe/Madrid
DESCRIPTION:Club de lectura
URI:https://www.viladepiera.cat/actualitat/agenda/24460-club-de-lectura.html
CLASS:PUBLIC
END:VEVENT
END:VCALENDAR
