BEGIN:VCALENDAR
VERSION:2.0
CALSCALE:GREGORIAN
PRODID:-//Diputació de Barcelona//DibaCMS//EN
BEGIN:VEVENT
UID:24467
DTSTAMP:20260422T144513
DTSTART:20120620T180000
DTEND:20120620T000000
SUMMARY:Tarda de cine a la Biblioteca
LOCATION:
METHOD:PUBLISH
X-WR-CALNAME:e-seu@ajpiera.cat
X-WR-TIMEZONE:Europe/Madrid
DESCRIPTION:Tarda de cine a la Biblioteca
URI:https://www.viladepiera.cat/actualitat/agenda/tarda-de-cine-a-la-biblioteca.html
CLASS:PUBLIC
END:VEVENT
END:VCALENDAR
