BEGIN:VCALENDAR
VERSION:2.0
CALSCALE:GREGORIAN
PRODID:-//Diputació de Barcelona//DibaCMS//EN
BEGIN:VEVENT
UID:24480
DTSTAMP:20260422T133055
DTSTART:20120622T120000
DTEND:20120622T000000
SUMMARY:Acte de cloenda dels PQPI
LOCATION:
METHOD:PUBLISH
X-WR-CALNAME:e-seu@ajpiera.cat
X-WR-TIMEZONE:Europe/Madrid
DESCRIPTION:Acte de cloenda dels PQPI
URI:https://www.viladepiera.cat/actualitat/agenda/acte-de-cloenda-dels-pqpi.html
CLASS:PUBLIC
END:VEVENT
END:VCALENDAR
