BEGIN:VCALENDAR
VERSION:2.0
CALSCALE:GREGORIAN
PRODID:-//Diputació de Barcelona//DibaCMS//EN
BEGIN:VEVENT
UID:24487
DTSTAMP:20260422T055701
DTSTART:20120623T200000
DTEND:20120623T200000
SUMMARY:Revetlla de Sant Joan amb Flama del Canigó
LOCATION:
METHOD:PUBLISH
X-WR-CALNAME:e-seu@ajpiera.cat
X-WR-TIMEZONE:Europe/Madrid
DESCRIPTION:Revetlla de Sant Joan amb Flama del Canigó

URI:https://www.viladepiera.cat/actualitat/agenda/24487-revetlla-de-sant-joan-amb-flama-del-canigo.html
CLASS:PUBLIC
END:VEVENT
END:VCALENDAR
