BEGIN:VCALENDAR
VERSION:2.0
CALSCALE:GREGORIAN
PRODID:-//Diputació de Barcelona//DibaCMS//EN
BEGIN:VEVENT
UID:24492
DTSTAMP:20260422T013435
DTSTART:20120626T153000
DTEND:20120626T000000
SUMMARY:Espai per a pares i mares: Créixer en família
LOCATION:
METHOD:PUBLISH
X-WR-CALNAME:e-seu@ajpiera.cat
X-WR-TIMEZONE:Europe/Madrid
DESCRIPTION:Espai per a pares i mares: Créixer en família
URI:https://www.viladepiera.cat/actualitat/agenda/24492-espai-per-a-pares-i-mares-creixer-en-familia.html
CLASS:PUBLIC
END:VEVENT
END:VCALENDAR
