BEGIN:VCALENDAR
VERSION:2.0
CALSCALE:GREGORIAN
PRODID:-//Diputació de Barcelona//DibaCMS//EN
BEGIN:VEVENT
UID:24505
DTSTAMP:20260422T045705
DTSTART:20120630T220000
DTEND:20120630T000000
SUMMARY:Festival de Patinatge Artístic
LOCATION:
METHOD:PUBLISH
X-WR-CALNAME:e-seu@ajpiera.cat
X-WR-TIMEZONE:Europe/Madrid
DESCRIPTION:Festival de Patinatge Artístic
URI:https://www.viladepiera.cat/actualitat/agenda/24505-festival-de-patinatge-artistic.html
CLASS:PUBLIC
END:VEVENT
END:VCALENDAR
