BEGIN:VCALENDAR
VERSION:2.0
CALSCALE:GREGORIAN
PRODID:-//Diputació de Barcelona//DibaCMS//EN
BEGIN:VEVENT
UID:24517
DTSTAMP:20260422T012707
DTSTART:20120630T160000
DTEND:20120630T000000
SUMMARY:Excursió: L'entorn pierenc, de l'argila al plat
LOCATION:
METHOD:PUBLISH
X-WR-CALNAME:e-seu@ajpiera.cat
X-WR-TIMEZONE:Europe/Madrid
DESCRIPTION:Excursió: L'entorn pierenc, de l'argila al plat
URI:https://www.viladepiera.cat/actualitat/agenda/excursio-lentorn-pierenc-de-largila-al-plat.html
CLASS:PUBLIC
END:VEVENT
END:VCALENDAR
